BEGIN:VCALENDAR
VERSION:2.0
PRODID:-//wp-events-plugin.com//7.2.3.1//EN
TZID:America/New_York
X-WR-TIMEZONE:America/New_York
BEGIN:VEVENT
UID:913@clevelandphoto.org
DTSTART;TZID=America/New_York:20260516T090000
DTEND;TZID=America/New_York:20260516T140000
DTSTAMP:20260413T185344Z
URL:https://www.clevelandphoto.org/events/santa-day/
SUMMARY:SANTA DAY FIELD TRIP
DESCRIPTION: \n\nSanta Day Field Trip \n\nFor you and your inner child! A f
 un day filled with more Santas than you can imagine!\n\nWhen: May 16 2026 
 9am-2pm\n\nLast year the parade started about 10:30am due to rain\, might 
 be earlier might be later. Consider it an adventure!\n\nWhere: Medina Squa
 re\, Medina OH\n\nParade starts at: Castle Noel\, 260 S. Court Street\, Me
 dina\, OH 44256\n\nThere is a parade as well as a farmers market that the 
 Santas roam and a Santa mobile where they ride around the square\n\nWhy: B
 ecause you will want to tell Santa or many Santas how good you have been a
 nd to bring you more gear!\n\nWho: open to members and non members!\n\nAny
 one  can begin registerING for this field trip now with this link:***\n\n
 https://www.clevelandphoto.org/programs/field-trips/field-trip-santa-day/\
 n\nAs always please feel free to contact me with questions\n\nKim Wasielew
 ski\n\nfieldtrips@clevelandphoto.org\n\n440 570 5968\n\nParking Locations\
 n\nMedina County Courthouse Garage: 351 free spots\, located one block ea
 st of Public Square (E Liberty\, S Jefferson\, and Washington Streets).\n\
 nCity Hall Parking Garage: 202 free spots\, located one block west of Pub
 lic Square (W Friendship and N Elmwood Streets).\n\nOn-Street Parking: Av
 ailable around the Square\, typically restricted to 3 hours between 5 AM a
 nd 2 AM.\n\nPublic Lots: Several\, including lots off S. Court St.\, E. S
 mith Road\, and S. Broadway.\n\n&nbsp\;\n\nMedina Square Farmers Markets\n
 \nhttps://www.mainstreetmedina.com/our-events.html#:~:text=There%20are%20m
 any%20events%20in%20Medina%2C%20including:\,15%20*%20**Medina%20Candleligh
 t%20Walk**%20November%2020%E2%80%9322\n\n&nbsp\;\n\n&nbsp\;\n\n&nbsp\;\n\n
 &nbsp\;
END:VEVENT
BEGIN:VTIMEZONE
TZID:America/New_York
X-LIC-LOCATION:America/New_York
BEGIN:DAYLIGHT
DTSTART:20260308T030000
TZOFFSETFROM:-0500
TZOFFSETTO:-0400
TZNAME:EDT
END:DAYLIGHT
END:VTIMEZONE
END:VCALENDAR