BEGIN:VCALENDAR
VERSION:2.0
PRODID:-//wp-events-plugin.com//7.2.3.1//EN
TZID:America/New_York
X-WR-TIMEZONE:America/New_York
BEGIN:VEVENT
UID:128@clevelandphoto.org
DTSTART;TZID=America/New_York:20230527T080000
DTEND;TZID=America/New_York:20230527T100000
DTSTAMP:20230531T210014Z
URL:https://www.clevelandphoto.org/events/rockfeller-park-greenhouse/
SUMMARY:Rockfeller Park Greenhouse
DESCRIPTION:Itinerary: Spring flowers and macro photography in Cleveland.\n
 \n&nbsp\;\n\nWho: This trip is open to EVERYONE\, no cost or the need for 
 any advance notice – simply join us if you can!\n\n&nbsp\;\n\nTime: Satu
 rday\, May 27 from 8:00 am to about 10 am\n\n&nbsp\;\n\nCost:Parking and A
 dmission is free.\n\n&nbsp\;\n\nDirections: Address - 750 E. 88th Street\,
  Cleveland\, OH 44108\n\nFor a map: click here\n\n&nbsp\;\n\nAdditional In
 formation: THE WILLOTT IRIS GARDEN\, Dedicated in 2012\, the Garden is loc
 ated at the northern end of Rockefeller Park Greenhouse and features many 
 of the award winning plants hybridized by Tony and Dorothy Willott.\n\nWha
 t to Bring: Tripod is allowed\, a macro lens if you have one\, and a lens 
 for flower photography.\n\nWebsite: Cleveland Cultural Gardens\n\n&nbsp\;\
 n\nField Trip Sponsor:Natalie Souza for coordinating this field trip.\n\n&
 nbsp\;\n\nAdditional Questions: Email: Field Trips\n\n&nbsp\;\n\nPLEASE NO
 TE: As with all field trips\, CPS cannot be held responsible for any accid
 ents or injuries - participate at your own risk.
LOCATION:https://goo.gl/maps/XkbjmyLMgsQhSbTs5?coh=178573&entry=tt
END:VEVENT
BEGIN:VTIMEZONE
TZID:America/New_York
X-LIC-LOCATION:America/New_York
BEGIN:DAYLIGHT
DTSTART:20230312T030000
TZOFFSETFROM:-0500
TZOFFSETTO:-0400
TZNAME:EDT
END:DAYLIGHT
END:VTIMEZONE
END:VCALENDAR