BEGIN:VCALENDAR
VERSION:2.0
PRODID:-//wp-events-plugin.com//7.2.3.1//EN
TZID:America/New_York
X-WR-TIMEZONE:America/New_York
BEGIN:VEVENT
UID:331@clevelandphoto.org
DTSTART;TZID=America/New_York:20240526T090000
DTEND;TZID=America/New_York:20240526T110000
DTSTAMP:20240519T031133Z
URL:https://www.clevelandphoto.org/events/rockfeller-park-greenhouse-2/
SUMMARY:Willot Iris Garden
DESCRIPTION:Itinerary: Spring flowers and macro photography in Cleveland. A
 rrive by 9am\, for macro and flower photography we usually need early morn
 ing hours for the best images.  Usually sun is behind the trees at 9am bu
 t quickly rises\, so there may not be much time.  After that\, we can use
  screens and filters for your photos.   We need to be very careful not to
  break or harm any Irises.  The coordinator will wait near the entrance t
 o the park in the parking lot.  Please\, note that Willot Iris Garden is 
 located on the left of the main entrance of the Rockefeller Greenhouse.  
 We can visit the greenhouse afterward.\n\n&nbsp\;\n\nWho: More details to 
 come on how to sign-up.\n\n&nbsp\;\n\nTime: Sunday\, May 26 from 9:00 am t
 o about 11 am\n\n&nbsp\;\n\nCost: Parking and Admission is free. Recommend
 ed $10 donation\n\n&nbsp\;\n\nDirections: Address - 750 E. 88th Street\, C
 leveland\, OH 44108\n\nFor a map: click here\n\n&nbsp\;\n\nAdditional Info
 rmation: THE WILLOTT IRIS GARDEN\, Dedicated in 2012\, the Garden is locat
 ed at the northern end of Rockefeller Park Greenhouse and features many of
  the award winning plants hybridized by Tony and Dorothy Willott.\n\nWhat 
 to Bring: Tripod is allowed\, a macro lens if you have one\, and a lens fo
 r flower photography.\n\nWebsite: Cleveland Cultural Gardens\n\n&nbsp\;\n\
 nField Trip Sponsor:Natalie Souza for coordinating this field trip.\n\n&nb
 sp\;\n\nAdditional Questions: Email: Field Trips\n\n&nbsp\;\n\nPLEASE NOTE
 : As with all field trips\, CPS cannot be held responsible for any acciden
 ts or injuries - participate at your own risk.
LOCATION:https://goo.gl/maps/XkbjmyLMgsQhSbTs5?coh=178573&entry=tt
END:VEVENT
BEGIN:VTIMEZONE
TZID:America/New_York
X-LIC-LOCATION:America/New_York
BEGIN:DAYLIGHT
DTSTART:20240310T030000
TZOFFSETFROM:-0500
TZOFFSETTO:-0400
TZNAME:EDT
END:DAYLIGHT
END:VTIMEZONE
END:VCALENDAR