BEGIN:VCALENDAR
VERSION:2.0
PRODID:-//wp-events-plugin.com//7.2.3.1//EN
TZID:America/New_York
X-WR-TIMEZONE:America/New_York
BEGIN:VEVENT
UID:4@clevelandphoto.org
DTSTART:20230105T003000Z
DTEND:20230105T190000Z
DTSTAMP:20221226T181442Z
URL:https://www.clevelandphoto.org/events/rob-erick-camera-equipment-sale/
SUMMARY:Rob Erick Camera Equipment Sale
DESCRIPTION:On Saturday\, October 29 from 10am – 4pm and Sunday\, October
  30 from 1pm – 6pm Cleveland Photographic Society will be having a sale 
 of Rob Erick’s photographic equipment. This sale is open to members and 
 nonmembers. Items include camera bodies\, lenses\, tripods\, lighting equi
 pment and various accessories. All proceeds will go to his family. We have
  heavily discounted the items in order to sell them and there are tremendo
 us bargains to be had. This will be a ‘Cash or Check Only’ sale and al
 l equipment is sold “As Is.” The most popular items will be sold by a 
 Silent Auction in order to give all members an equal chance to acquire the
 m. The sale will be located in the CPS clubhouse. For a link to the invent
 ory and prices click here
ATTACH;FMTTYPE=image/jpeg:https://www.clevelandphoto.org/wp-content/upload
 s/2022/12/10-Copie.jpg
END:VEVENT
END:VCALENDAR