BEGIN:VCALENDAR
VERSION:2.0
PRODID:-//wp-events-plugin.com//7.2.3.1//EN
TZID:America/New_York
X-WR-TIMEZONE:America/New_York
BEGIN:VEVENT
UID:903@clevelandphoto.org
DTSTART;TZID=America/New_York:20270205T193000
DTEND;TZID=America/New_York:20270205T210000
DTSTAMP:20260228T172040Z
URL:https://www.clevelandphoto.org/events/richard-ader-photographer/
SUMMARY:Richard Ader Photographer.  "Photographing Nepal and Tibe".  In-per
 son      The club will be open.
DESCRIPTION:
END:VEVENT
BEGIN:VTIMEZONE
TZID:America/New_York
X-LIC-LOCATION:America/New_York
BEGIN:STANDARD
DTSTART:20261101T010000
TZOFFSETFROM:-0400
TZOFFSETTO:-0500
TZNAME:EST
END:STANDARD
END:VTIMEZONE
END:VCALENDAR