BEGIN:VCALENDAR
VERSION:2.0
PRODID:-//wp-events-plugin.com//7.2.3.1//EN
TZID:America/New_York
X-WR-TIMEZONE:America/New_York
BEGIN:VEVENT
UID:885@clevelandphoto.org
DTSTART;TZID=America/New_York:20260911T193000
DTEND;TZID=America/New_York:20260911T210000
DTSTAMP:20260228T171928Z
URL:https://www.clevelandphoto.org/events/richard-ader-photographer-photog
 raphing-nepal-and-tibet/
SUMMARY:Richard Ader Photographer "Photographing China" In-person
DESCRIPTION:
END:VEVENT
BEGIN:VTIMEZONE
TZID:America/New_York
X-LIC-LOCATION:America/New_York
BEGIN:DAYLIGHT
DTSTART:20260308T030000
TZOFFSETFROM:-0500
TZOFFSETTO:-0400
TZNAME:EDT
END:DAYLIGHT
END:VTIMEZONE
END:VCALENDAR