BEGIN:VCALENDAR
VERSION:2.0
PRODID:-//wp-events-plugin.com//7.2.3.1//EN
TZID:America/New_York
X-WR-TIMEZONE:America/New_York
BEGIN:VEVENT
UID:601@clevelandphoto.org
DTSTART;TZID=America/New_York:20250718T193000
DTEND;TZID=America/New_York:20250718T220000
DTSTAMP:20250628T154339Z
URL:https://www.clevelandphoto.org/events/reserved-for-pixel-connection-pr
 esentation/
SUMMARY:Topic: Traveling Near or Far: A Guide to Better Travel PhotosSpeake
 r presented by Pixel Connection: Ken Hubbard - In-Person Event
DESCRIPTION:\n\n&nbsp\;\n\nTitle: Traveling Near or Far: A Guide to Better 
 Travel Photos with Ken Hubbard.\n\nDescription: Take a trip with Tamron’
 s Ken Hubbard! A great travel and photography adventure starts far before 
 you set foot on the plane or behind the wheel of a car. Ken will discuss a
 ll the stages of planning your next great travel experience. Start with re
 search and planning\, move onto what gear to pack\, and then finish with c
 reating the images that tell stories that last a lifetime. This will be a 
 great guide to help you further your travel experience through amazing pho
 tographs.\n\nKen Hubbard’s Bio:\n\nKen Hubbard is the Field Services Man
 ager and instructor for Tamron who has had nationwide gallery showings of 
 portraits and landscape photography. His consistent output of breathtaking
  photographs continually challenges the boundaries of the genre.\n\nhttps:
 //www.kenhubbardphoto.com/
END:VEVENT
BEGIN:VTIMEZONE
TZID:America/New_York
X-LIC-LOCATION:America/New_York
BEGIN:DAYLIGHT
DTSTART:20250309T030000
TZOFFSETFROM:-0500
TZOFFSETTO:-0400
TZNAME:EDT
END:DAYLIGHT
END:VTIMEZONE
END:VCALENDAR