BEGIN:VCALENDAR
VERSION:2.0
PRODID:-//wp-events-plugin.com//7.2.3.1//EN
TZID:America/New_York
X-WR-TIMEZONE:America/New_York
BEGIN:VEVENT
UID:888@clevelandphoto.org
DTSTART;TZID=America/New_York:20260131T190000
DTEND;TZID=America/New_York:20260131T220000
DTSTAMP:20260124T114119Z
URL:https://www.clevelandphoto.org/events/rescheduled-cabin-fever-party-70
 0-pm/
SUMMARY:Rescheduled Cabin Fever Party 7:00 PM
DESCRIPTION:This is the rescheduled event from January 24th. Bring a covere
 d dish to feed 6-8 people or $18.  To participate in the Robber's gift ex
 change\, bring a WRAPPED gift or $18. For questions\, contact Kim Lonsdale
  at kim.lonsdale57@gmail.com.
END:VEVENT
BEGIN:VTIMEZONE
TZID:America/New_York
X-LIC-LOCATION:America/New_York
BEGIN:STANDARD
DTSTART:20251102T010000
TZOFFSETFROM:-0400
TZOFFSETTO:-0500
TZNAME:EST
END:STANDARD
END:VTIMEZONE
END:VCALENDAR