BEGIN:VCALENDAR
VERSION:2.0
PRODID:-//wp-events-plugin.com//7.2.3.1//EN
TZID:America/New_York
X-WR-TIMEZONE:America/New_York
BEGIN:VEVENT
UID:595@clevelandphoto.org
DTSTART;TZID=America/New_York:20251031T193000
DTEND;TZID=America/New_York:20251031T210000
DTSTAMP:20250908T195907Z
URL:https://www.clevelandphoto.org/events/randall-j-hodges-photographer/
SUMMARY:Fall Color All-In-Camera with Randall J Hodges Photography  - Zoom
DESCRIPTION:\nRandall J. Hodges has been capturing images of the Western Un
 ited States and Canada as a full-time professional photographer for over 2
 4 years. Most of his work comes from time spent hiking and backpacking the
  wilderness areas of the West where he has hiked and photographed over 37\
 ,000 trail miles. Randall’s work has been published over 5100 times worl
 dwide in books\, magazines\, calendars\, greeting cards\, post cards\, new
 spapers and much\, much more. His work appears in publications like Nation
 al Geographic\, Nature Photographer Magazine\, Northwest Travel Magazine\,
  Oregon Coast Magazine\, Hawaii Magazine\, Photo Monthly Magazine\, Outdoo
 r Photography Magazine\, Photo Professionals Magazine\, Seattle Magazine\,
  1859 Oregon Magazine\, Washington Trails Magazine\, In the Pacific Northw
 est Magazine\, Seattle Met Magazine\, Landscape Photography Magazine\, jus
 t to name a few. Randall has won countless awards for his photography. Ran
 dall does not alter his work in any way and considers himself an “All in
  Camera Shooter” as he spends the time to wait for the right light and c
 olor and uses “Old School Techniques” rather than post-processing to c
 apture his remarkable images.  Only the smallest adjustments are made to 
 ensure the finished print matches the back of the camera as closely as pos
 sible.\nRandall’s work has been featured in countless galleries and art 
 shows around the West. He speaks at photography conventions and seminars. 
 Randall teaches his “Out in the Field” lessons and Adventures around t
 he West where he shares his old-school techniques on digital cameras with 
 his students. His book “Images of the West” is a 208-page full color l
 andscape photography book\, featuring 20 years of his amazing and unforget
 table photography of the West.\nRandall owns the Randall J. Hodges Photogr
 aphy Gallery in Downtown Edmonds Washington and the Images of the West Gal
 lery in beautiful Cannon Beach\, Oregon.\n“Take only Pictures\, Leave On
 ly Footprints”\n\n\nRandall J Hodges\nRandall J Hodges Photography\nwww.
 randalljhodges.com\nrandall@randalljhodges.com\ncell 425-210-2506\n\nRanda
 ll J Hodges Photography Gallery\n317 Main Street\, Edmonds\, WA 98020 425-
 582-0803\n\nImages of the West Gallery\, By Randall J Hodges\n224 North He
 mlock Street\, Suite #1\, Cannon Beach\, OR 97110 (No Mail) 503-436-4113\n
END:VEVENT
BEGIN:VTIMEZONE
TZID:America/New_York
X-LIC-LOCATION:America/New_York
BEGIN:DAYLIGHT
DTSTART:20250309T030000
TZOFFSETFROM:-0500
TZOFFSETTO:-0400
TZNAME:EDT
END:DAYLIGHT
END:VTIMEZONE
END:VCALENDAR