BEGIN:VCALENDAR
VERSION:2.0
PRODID:-//wp-events-plugin.com//7.2.3.1//EN
TZID:America/New_York
X-WR-TIMEZONE:America/New_York
BEGIN:VEVENT
UID:704@clevelandphoto.org
DTSTART;TZID=America/New_York:20250621T090000
DTEND;TZID=America/New_York:20250621T110000
DTSTAMP:20250509T183022Z
URL:https://www.clevelandphoto.org/events/queen-right-colonies-field-trip/
SUMMARY:QUEEN RIGHT COLONIES FIELD TRIP
DESCRIPTION:QUEEN RIGHT COLONIES FIELD TRIP\n\n9 am\n\nJune 21 2025\n\n(rai
 n date June 28 2021)\n\nhttps://www.queenrightcolonies.com/\n\n43655 State
  Route 162\n\nSpencer Oh 44275\n\nPhone: 440-647-2602\n\nContact person f
 rom cps…Kim Wasielewski 440 570 5968\n\nfieldtrips@clevelandphoto.org\n\
 nCome and join CPS photographers for a fun day out filled with bees\, anim
 als\, baby animals\, doves\, goats\, animals I have never heard of before 
 oh my!\n\n&nbsp\;\n\nIt is a really good idea to wear boots. Lots of anima
 l doo doo to step in and if we are lucky Denzel will be available to show 
 us around. This is one of the most interesting places I have ever been to 
 and that is why we keep coming back. Animals\, birds\, bees\, and a gift s
 hop.\n\n&nbsp\;\n\n 
END:VEVENT
BEGIN:VTIMEZONE
TZID:America/New_York
X-LIC-LOCATION:America/New_York
BEGIN:DAYLIGHT
DTSTART:20250309T030000
TZOFFSETFROM:-0500
TZOFFSETTO:-0400
TZNAME:EDT
END:DAYLIGHT
END:VTIMEZONE
END:VCALENDAR