BEGIN:VCALENDAR
VERSION:2.0
PRODID:-//wp-events-plugin.com//7.2.3.1//EN
TZID:America/New_York
X-WR-TIMEZONE:America/New_York
BEGIN:VEVENT
UID:23@clevelandphoto.org
DTSTART;TZID=America/New_York:20230301T143000
DTEND;TZID=America/New_York:20230301T143000
DTSTAMP:20230301T001118Z
URL:https://www.clevelandphoto.org/events/print-competition/
SUMMARY:Print Competition
DESCRIPTION:This is a test event.
END:VEVENT
BEGIN:VTIMEZONE
TZID:America/New_York
X-LIC-LOCATION:America/New_York
BEGIN:STANDARD
DTSTART:20221106T010000
TZOFFSETFROM:-0400
TZOFFSETTO:-0500
TZNAME:EST
END:STANDARD
END:VTIMEZONE
END:VCALENDAR