BEGIN:VCALENDAR
VERSION:2.0
PRODID:-//wp-events-plugin.com//7.2.3.1//EN
TZID:America/New_York
X-WR-TIMEZONE:America/New_York
BEGIN:VEVENT
UID:164@clevelandphoto.org
DTSTART;TZID=America/New_York:20230917T100000
DTEND;TZID=America/New_York:20230917T130000
DTSTAMP:20230802T210956Z
URL:https://www.clevelandphoto.org/events/portraiture-and-lighting-class-2
 /
SUMMARY:Portraiture and Lighting Class 2
DESCRIPTION:Portraiture and Lighting Class with John Saraya. Three hour wor
 king session on how to use lighting in portraiture. Models will be present
  for the class.
END:VEVENT
BEGIN:VTIMEZONE
TZID:America/New_York
X-LIC-LOCATION:America/New_York
BEGIN:DAYLIGHT
DTSTART:20230312T030000
TZOFFSETFROM:-0500
TZOFFSETTO:-0400
TZNAME:EDT
END:DAYLIGHT
END:VTIMEZONE
END:VCALENDAR