BEGIN:VCALENDAR
VERSION:2.0
PRODID:-//wp-events-plugin.com//7.2.3.1//EN
TZID:America/New_York
X-WR-TIMEZONE:America/New_York
BEGIN:VEVENT
UID:160@clevelandphoto.org
DTSTART;TZID=America/New_York:20231013T193000
DTEND;TZID=America/New_York:20231013T210000
DTSTAMP:20230929T122412Z
URL:https://www.clevelandphoto.org/events/portrait-professional-in-person-
 event/
SUMMARY:Portrait Professional - LIVE LECTURE
DESCRIPTION:October 13\, 2023\nPortrait Professional\n\nNancy Balluck will 
 be giving a demonstration on Portrait Professional\, Version 23\, during t
 he People Competition. Portrait Professional is "the world's easiest portr
 ait enhancement software". Nancy completely agrees with their website whic
 h states that expert photo editing can be achieved by unskilled users in m
 inutes\, simply by moving sliders. Natural skin smoothing\, face sculpting
 \, skin relighting\, realistic digital makeup and many more natural looki
 ng enhancement features on women\, men and children will be covered in th
 is demonstration. Portrait Professional can be used as a Standalone or as 
 a Photoshop and Lightroom Plug-in.\n\nNancy has been a portrait photograph
 er for nearly 23 years and uses Portrait Professional regularly in her wor
 k. As a former art teacher\, Nancy enjoys the creativity\, as well as the 
 interaction with her clients\, that portrait photography offers her. She h
 as been an active member of CPS for the past 15 years and for the past 13 
 years\, she has taught the Environmental Portraiture class for the Fundame
 ntals of Good Photography School. She is also the volunteer photographer f
 or Hale Farm and Village and her work is used for their marketing and publ
 ication needs.\n
END:VEVENT
BEGIN:VTIMEZONE
TZID:America/New_York
X-LIC-LOCATION:America/New_York
BEGIN:DAYLIGHT
DTSTART:20230312T030000
TZOFFSETFROM:-0500
TZOFFSETTO:-0400
TZNAME:EDT
END:DAYLIGHT
END:VTIMEZONE
END:VCALENDAR