BEGIN:VCALENDAR
VERSION:2.0
PRODID:-//wp-events-plugin.com//7.2.3.1//EN
TZID:America/New_York
X-WR-TIMEZONE:America/New_York
BEGIN:VEVENT
UID:653@clevelandphoto.org
DTSTART;TZID=America/New_York:20250629T130000
DTEND;TZID=America/New_York:20250629T130000
DTSTAMP:20250322T112538Z
URL:https://www.clevelandphoto.org/events/porter-library-exhibt-breakdown-
 and-deframing/
SUMMARY:Porter Library Exhibt Breakdown and Deframing
DESCRIPTION:Westlake Porter Library | 27333 Center Ridge Rd | Westlake
END:VEVENT
BEGIN:VTIMEZONE
TZID:America/New_York
X-LIC-LOCATION:America/New_York
BEGIN:DAYLIGHT
DTSTART:20250309T030000
TZOFFSETFROM:-0500
TZOFFSETTO:-0400
TZNAME:EDT
END:DAYLIGHT
END:VTIMEZONE
END:VCALENDAR