BEGIN:VCALENDAR
VERSION:2.0
PRODID:-//wp-events-plugin.com//7.2.3.1//EN
TZID:America/New_York
X-WR-TIMEZONE:America/New_York
BEGIN:VEVENT
UID:340@clevelandphoto.org
DTSTART;TZID=America/New_York:20240602T143000
DTEND;TZID=America/New_York:20240602T160000
DTSTAMP:20240323T130901Z
URL:https://www.clevelandphoto.org/events/porter-library-exhibit-reception
 /
SUMMARY:Porter Library Exhibit Reception
DESCRIPTION:Join us for the opening reception of "Capturing the Elements" e
 xhibit!  The library is located at 27333 Center Ridge Rd in Westlake.  W
 estlake Porter Library
END:VEVENT
BEGIN:VTIMEZONE
TZID:America/New_York
X-LIC-LOCATION:America/New_York
BEGIN:DAYLIGHT
DTSTART:20240310T030000
TZOFFSETFROM:-0500
TZOFFSETTO:-0400
TZNAME:EDT
END:DAYLIGHT
END:VTIMEZONE
END:VCALENDAR