BEGIN:VCALENDAR
VERSION:2.0
PRODID:-//wp-events-plugin.com//7.2.3.1//EN
TZID:America/New_York
X-WR-TIMEZONE:America/New_York
BEGIN:VEVENT
UID:317@clevelandphoto.org
DTSTART;TZID=America/New_York:20240921T183000
DTEND;TZID=America/New_York:20240921T200000
DTSTAMP:20240123T222818Z
URL:https://www.clevelandphoto.org/events/playhouse-square-district-field-
 trip/
SUMMARY:Playhouse Square District Field Trip
DESCRIPTION:Itinerary: Meet at 6:30pm in front of the Starbucks (1400 Eucl
 id Ave\, Cleveland OH 44115).  The area is approximately two blocks long 
 and include the GE chandelier\, the Connor\, Palace\, Allen and Great Lake
 s Theaters\, The IDEAStream Building\, US Bank Plaza. The area also includ
 es the Playhouse Square District signs and several large lighted signs loc
 ated on buildings. Many of the buildings are lit at night with LED lights.
 \n\nSunset will be around 7:23pm that night allowing for time to get photo
 s of the buildings prior to the lights coming on.\n\n&nbsp\;\n\nWho: There
  is no cost for this field trip.  Participants are responsible for parkin
 g fees.  The field trip is open to EVERYONE.\n\n&nbsp\;\n\nWhere: Meeting
  point: Starbucks\n\nFor a map: click here\n\n&nbsp\;\n\nEquipment: Camera
 . Various interchangeable lens including wide-angle\, telephoto\, or multi
 -purpose zoom lens\, tripod (recommended). Flashlight for light painting\,
  extra batteries\, and memory cards\, etc. and dress appropriately to the 
 weather forecast. If it is warm\, you may need bug spray.\n\n&nbsp\;\n\nAd
 ditional Information: Playhouse Square District\n\n&nbsp\;\n\nField Trip S
 ponsor: Thank you\, Jerry Phenney for coordinating!\n\n&nbsp\;\n\nAddition
 al Questions: Email: Field Trips\n\n&nbsp\;\n\nPLEASE NOTE: As with all fi
 eld trips\, CPS cannot be held responsible for any accidents or injuries -
  participate at your own risk.\n\n&nbsp\;
END:VEVENT
BEGIN:VTIMEZONE
TZID:America/New_York
X-LIC-LOCATION:America/New_York
BEGIN:DAYLIGHT
DTSTART:20240310T030000
TZOFFSETFROM:-0500
TZOFFSETTO:-0400
TZNAME:EDT
END:DAYLIGHT
END:VTIMEZONE
END:VCALENDAR