BEGIN:VCALENDAR
VERSION:2.0
PRODID:-//wp-events-plugin.com//7.2.3.1//EN
TZID:America/New_York
X-WR-TIMEZONE:America/New_York
BEGIN:VEVENT
UID:332@clevelandphoto.org
DTSTART;TZID=America/New_York:20240405T090000
DTEND;TZID=America/New_York:20240405T210000
DTSTAMP:20240325T213419Z
URL:https://www.clevelandphoto.org/events/piston-powered-auto-rama-field-t
 rip/
SUMMARY:Field Trip - Piston Powered Auto-Rama
DESCRIPTION:Itinerary: Meet at 8:45am at the East Entrance of the I-X Cent
 er to sign in.  We will have access to the show 1 hour before the general
  public.\n\n&nbsp\;\n\nWho: Open to club members and guests ONLY at this t
 ime.   You should receive an email the week of February 12th.\n\n&nbsp\;\
 n\nEquipment: Camera. Various interchangeable lens including wide-angle or
  multi-purpose zoom lens\, tripod and flashes ARE permitted on the showroo
 m floor.\n\n&nbsp\;\n\nAddition Information: Piston Powered Auto-Rama\n\n&
 nbsp\;\n\nField Trip Sponsor: Thank you\, Tim Conway and Stacie Domaszewic
 z for coordinating!\n\n&nbsp\;\n\nAdditional Questions: Email: Field Trips
 \n\n&nbsp\;\n\nPLEASE NOTE: As with all field trips\, CPS cannot be held r
 esponsible for any accidents or injuries - participate at your own risk.\n
 \n&nbsp\;
END:VEVENT
BEGIN:VTIMEZONE
TZID:America/New_York
X-LIC-LOCATION:America/New_York
BEGIN:DAYLIGHT
DTSTART:20240310T030000
TZOFFSETFROM:-0500
TZOFFSETTO:-0400
TZNAME:EDT
END:DAYLIGHT
END:VTIMEZONE
END:VCALENDAR