BEGIN:VCALENDAR
VERSION:2.0
PRODID:-//wp-events-plugin.com//7.2.3.1//EN
TZID:America/New_York
X-WR-TIMEZONE:America/New_York
BEGIN:VEVENT
UID:27@clevelandphoto.org
DTSTART;TZID=America/New_York:20230311T100000
DTEND;TZID=America/New_York:20230311T123000
DTSTAMP:20230420T000416Z
URL:https://www.clevelandphoto.org/events/photoshop-editing-student-image-
 review/
SUMMARY:Photoshop Editing Class - Student Image Review
DESCRIPTION:Tenth and final class in this intensive 10 session course\, pro
 viding a complete introduction to photo editing\, using Photoshop CC softw
 are. For more details and registration information\, visit the School page
  of this website.\n\nNOTE: Participation in CPS School program offerings r
 equires enrollment in the entire course. Previous students are always welc
 ome to attend individual sessions without the need for advance notice\, re
 gistration or additional cost. Schedule for individual sessions is subject
  to change.
END:VEVENT
BEGIN:VTIMEZONE
TZID:America/New_York
X-LIC-LOCATION:America/New_York
BEGIN:STANDARD
DTSTART:20221106T010000
TZOFFSETFROM:-0400
TZOFFSETTO:-0500
TZNAME:EST
END:STANDARD
END:VTIMEZONE
END:VCALENDAR