BEGIN:VCALENDAR
VERSION:2.0
PRODID:-//wp-events-plugin.com//7.2.3.1//EN
TZID:America/New_York
X-WR-TIMEZONE:America/New_York
BEGIN:VEVENT
UID:11@clevelandphoto.org
DTSTART;TZID=America/New_York:20230211T100000
DTEND;TZID=America/New_York:20230211T123000
DTSTAMP:20230420T000357Z
URL:https://www.clevelandphoto.org/events/photoshop-editing-retouching/
SUMMARY:Photoshop Editing Class - Retouching
DESCRIPTION:Sixth class in this intensive 10 session course\, providing a c
 omplete introduction to photo editing\, using Photoshop CC software. For m
 ore details and registration information\, visit the School page of this
  website.
END:VEVENT
BEGIN:VTIMEZONE
TZID:America/New_York
X-LIC-LOCATION:America/New_York
BEGIN:STANDARD
DTSTART:20221106T010000
TZOFFSETFROM:-0400
TZOFFSETTO:-0500
TZNAME:EST
END:STANDARD
END:VTIMEZONE
END:VCALENDAR