BEGIN:VCALENDAR
VERSION:2.0
PRODID:-//wp-events-plugin.com//7.2.3.1//EN
TZID:America/New_York
X-WR-TIMEZONE:America/New_York
BEGIN:VEVENT
UID:77@clevelandphoto.org
DTSTART;TZID=America/New_York:20230405T193000
DTEND;TZID=America/New_York:20230405T220000
DTSTAMP:20230420T000421Z
URL:https://www.clevelandphoto.org/events/photoshop-editing-intro-and-brid
 ge/
SUMMARY:Photoshop Editing Class - Intro and Bridge
DESCRIPTION:First class in this intensive 10-session course\, providing a c
 omplete introduction to photo editing using Adobe Photoshop software.\n\nC
 lasses are for enrolled students only. See our Schools page for more infor
 mation.
CATEGORIES:School
END:VEVENT
BEGIN:VTIMEZONE
TZID:America/New_York
X-LIC-LOCATION:America/New_York
BEGIN:DAYLIGHT
DTSTART:20230312T030000
TZOFFSETFROM:-0500
TZOFFSETTO:-0400
TZNAME:EDT
END:DAYLIGHT
END:VTIMEZONE
END:VCALENDAR