BEGIN:VCALENDAR
VERSION:2.0
PRODID:-//wp-events-plugin.com//7.2.3.1//EN
TZID:America/New_York
X-WR-TIMEZONE:America/New_York
BEGIN:VEVENT
UID:93@clevelandphoto.org
DTSTART;TZID=America/New_York:20231007T100000
DTEND;TZID=America/New_York:20231007T160000
DTSTAMP:20230420T013400Z
URL:https://www.clevelandphoto.org/events/photoshop-editing-class-tips-and
 -tricks-ii-student-image-review/
SUMMARY:Photoshop Editing Class - Tips and Tricks II\, Student Image Review
DESCRIPTION:Fifth class in this intensive 5-session course\, providing a co
 mplete introduction to photo editing using Adobe Photoshop software.\n\nCl
 asses are for enrolled students only. See our Schools page for more inform
 ation.
CATEGORIES:School
END:VEVENT
BEGIN:VTIMEZONE
TZID:America/New_York
X-LIC-LOCATION:America/New_York
BEGIN:DAYLIGHT
DTSTART:20230312T030000
TZOFFSETFROM:-0500
TZOFFSETTO:-0400
TZNAME:EDT
END:DAYLIGHT
END:VTIMEZONE
END:VCALENDAR