BEGIN:VCALENDAR
VERSION:2.0
PRODID:-//wp-events-plugin.com//7.2.3.1//EN
TZID:America/New_York
X-WR-TIMEZONE:America/New_York
BEGIN:VEVENT
UID:465@clevelandphoto.org
DTSTART;TZID=America/New_York:20250118T100000
DTEND;TZID=America/New_York:20250118T123000
DTSTAMP:20240928T214018Z
URL:https://www.clevelandphoto.org/events/photoshop-editing-class-layers-s
 imple-layer-masks/
SUMMARY:Photoshop Editing Class - Layers\, Simple Layer Masks
DESCRIPTION:Third class in this intensive 12-session course\, providing a c
 omplete introduction to photo editing using Adobe Photoshop software.\n\nC
 lasses are for enrolled students only. See our Schools page for more infor
 mation.
CATEGORIES:School
END:VEVENT
BEGIN:VTIMEZONE
TZID:America/New_York
X-LIC-LOCATION:America/New_York
BEGIN:STANDARD
DTSTART:20241103T010000
TZOFFSETFROM:-0400
TZOFFSETTO:-0500
TZNAME:EST
END:STANDARD
END:VTIMEZONE
END:VCALENDAR