BEGIN:VCALENDAR
VERSION:2.0
PRODID:-//wp-events-plugin.com//7.2.3.1//EN
TZID:America/New_York
X-WR-TIMEZONE:America/New_York
BEGIN:VEVENT
UID:807@clevelandphoto.org
DTSTART;TZID=America/New_York:20260915T100000
DTEND;TZID=America/New_York:20260915T123000
DTSTAMP:20251116T032825Z
URL:https://www.clevelandphoto.org/events/photoshop-editing-class-layer-ma
 sks-simple-selections-4/
SUMMARY:Photoshop Editing Class - Layer Masks\, Simple Selections
DESCRIPTION:Seventh class in this intensive 12-session course\, providing a
  complete introduction to photo editing using Adobe Photoshop software.\n\
 nClasses are for enrolled students only. See our Schools page for more inf
 ormation.
CATEGORIES:School
END:VEVENT
BEGIN:VTIMEZONE
TZID:America/New_York
X-LIC-LOCATION:America/New_York
BEGIN:DAYLIGHT
DTSTART:20260308T030000
TZOFFSETFROM:-0500
TZOFFSETTO:-0400
TZNAME:EDT
END:DAYLIGHT
END:VTIMEZONE
END:VCALENDAR