BEGIN:VCALENDAR
VERSION:2.0
PRODID:-//wp-events-plugin.com//7.2.3.1//EN
TZID:America/New_York
X-WR-TIMEZONE:America/New_York
BEGIN:VEVENT
UID:466@clevelandphoto.org
DTSTART;TZID=America/New_York:20250125T100000
DTEND;TZID=America/New_York:20250125T123000
DTSTAMP:20250123T225136Z
URL:https://www.clevelandphoto.org/events/photoshop-editing-class-layer-ma
 sks-and-blend-modes-3/
SUMMARY:Photoshop Editing Class - Layer Masks and Simple Selections
DESCRIPTION:Fourth class in this intensive 12-session course\, providing a 
 complete introduction to photo editing using Adobe Photoshop software.\n\n
 Classes are for enrolled students only. See our Schools page for more info
 rmation.
CATEGORIES:School
END:VEVENT
BEGIN:VTIMEZONE
TZID:America/New_York
X-LIC-LOCATION:America/New_York
BEGIN:STANDARD
DTSTART:20241103T010000
TZOFFSETFROM:-0400
TZOFFSETTO:-0500
TZNAME:EST
END:STANDARD
END:VTIMEZONE
END:VCALENDAR