BEGIN:VCALENDAR
VERSION:2.0
PRODID:-//wp-events-plugin.com//7.2.3.1//EN
TZID:America/New_York
X-WR-TIMEZONE:America/New_York
BEGIN:VEVENT
UID:199@clevelandphoto.org
DTSTART;TZID=America/New_York:20240424T193000
DTEND;TZID=America/New_York:20240424T220000
DTSTAMP:20230824T221457Z
URL:https://www.clevelandphoto.org/events/photoshop-editing-class-layer-ma
 sks-and-blend-modes-2/
SUMMARY:Photoshop Editing Class - Layer Masks and Blend Modes
DESCRIPTION:Fourth class in this intensive 10-session course\, providing a 
 complete introduction to photo editing using Adobe Photoshop software.\n\n
 Classes are for enrolled students only. See our Schools page for more info
 rmation.
CATEGORIES:School
END:VEVENT
BEGIN:VTIMEZONE
TZID:America/New_York
X-LIC-LOCATION:America/New_York
BEGIN:DAYLIGHT
DTSTART:20240310T030000
TZOFFSETFROM:-0500
TZOFFSETTO:-0400
TZNAME:EDT
END:DAYLIGHT
END:VTIMEZONE
END:VCALENDAR