BEGIN:VCALENDAR
VERSION:2.0
PRODID:-//wp-events-plugin.com//7.2.3.1//EN
TZID:America/New_York
X-WR-TIMEZONE:America/New_York
BEGIN:VEVENT
UID:738@clevelandphoto.org
DTSTART;TZID=America/New_York:20260103T100000
DTEND;TZID=America/New_York:20260103T123000
DTSTAMP:20250704T202127Z
URL:https://www.clevelandphoto.org/events/photoshop-editing-class-bridge-c
 amera-raw-intro-3/
SUMMARY:Photoshop Editing Class - Introduction and Bridge
DESCRIPTION:First class in this intensive 12-session course\, providing a c
 omplete introduction to photo editing using Adobe Photoshop software.\n\nC
 lasses are for enrolled students only. See our Schools page for more infor
 mation.
CATEGORIES:School
END:VEVENT
BEGIN:VTIMEZONE
TZID:America/New_York
X-LIC-LOCATION:America/New_York
BEGIN:STANDARD
DTSTART:20251102T010000
TZOFFSETFROM:-0400
TZOFFSETTO:-0500
TZNAME:EST
END:STANDARD
END:VTIMEZONE
END:VCALENDAR