BEGIN:VCALENDAR
VERSION:2.0
PRODID:-//wp-events-plugin.com//7.2.3.1//EN
TZID:America/New_York
X-WR-TIMEZONE:America/New_York
BEGIN:VEVENT
UID:483@clevelandphoto.org
DTSTART;TZID=America/New_York:20250527T193000
DTEND;TZID=America/New_York:20250527T220000
DTSTAMP:20250302T200443Z
URL:https://www.clevelandphoto.org/events/photoshop-editing-class-advanced
 -selections-and-masking-2/
SUMMARY:Photoshop Editing Class - Advanced Selections and Masking
DESCRIPTION:Seventh class in this intensive 12-session course\, providing a
  complete introduction to photo editing using Adobe Photoshop software.\n\
 nClasses are for enrolled students only. See our Schools page for more inf
 ormation.
CATEGORIES:School
END:VEVENT
BEGIN:VTIMEZONE
TZID:America/New_York
X-LIC-LOCATION:America/New_York
BEGIN:DAYLIGHT
DTSTART:20250309T030000
TZOFFSETFROM:-0500
TZOFFSETTO:-0400
TZNAME:EDT
END:DAYLIGHT
END:VTIMEZONE
END:VCALENDAR