BEGIN:VCALENDAR
VERSION:2.0
PRODID:-//wp-events-plugin.com//7.2.3.1//EN
TZID:America/New_York
X-WR-TIMEZONE:America/New_York
BEGIN:VEVENT
UID:308@clevelandphoto.org
DTSTART;TZID=America/New_York:20250131T193000
DTEND;TZID=America/New_York:20250131T220000
DTSTAMP:20240117T190220Z
URL:https://www.clevelandphoto.org/events/photojournalism-night-projection
 -6/
SUMMARY:Photojournalism Night (Projection)
DESCRIPTION:Photojournalism is the process of storytelling using the medium
  of photography as the main story telling device. While a journalist will 
 use a pen and paper to tell stories\, a photojournalist will use their cam
 era to capture the visual representation of a story. When submitting image
 s for Photojournalism nights\, members are asked to give a brief descripti
 on of their unique and powerful form of visual storytelling for their imag
 e. Members can submit up to 5 (five) images for the night.\n\nPhotojournal
 ism images should limit editing to cropping\, color balancing\, conversion
  to B&amp\;W and subtle dodging and burning. Adding or removing elements w
 ith any photo editing software is not permitted.\n\nThough not judges at t
 he time\, all photojournalism images uploaded for presentation become elig
 ible for submission to the End of the Year competition\, where they are ju
 dged against each other and one is chosen as Photojournalism Image of the 
 Year to hang on the back wall.\n\nNote that the submission deadline for al
 l Photojournalism nights is the Wednesday evening 2 days in advance of the
  night. Entries are to be submitted through ShutterScore.\n\nAll CPS membe
 rs in good standing can and are encouraged to enter Club competitions. For
  rules\, labels\, tutorials and more\, please visit the Competitions page 
 of the website. All are welcome to view the event live or at a later time 
 on our CPS YouTube channel but only members can submit images. Even if you
  do not enter\, please plan to join us to see the beautiful images and hea
 r the judge's comments.
END:VEVENT
BEGIN:VTIMEZONE
TZID:America/New_York
X-LIC-LOCATION:America/New_York
BEGIN:STANDARD
DTSTART:20241103T010000
TZOFFSETFROM:-0400
TZOFFSETTO:-0500
TZNAME:EST
END:STANDARD
END:VTIMEZONE
END:VCALENDAR