BEGIN:VCALENDAR
VERSION:2.0
PRODID:-//wp-events-plugin.com//7.2.3.1//EN
TZID:America/New_York
X-WR-TIMEZONE:America/New_York
BEGIN:VEVENT
UID:319@clevelandphoto.org
DTSTART;TZID=America/New_York:20240301T193000
DTEND;TZID=America/New_York:20240301T201500
DTSTAMP:20240128T141548Z
URL:https://www.clevelandphoto.org/events/photographing-the-kingdom-of-jor
 dan-pre-competition-talk/
SUMMARY:Photographing the Kingdom of Jordan - Pre Competition Talk
DESCRIPTION:Richard Ader will present "Photographing the Kingdom of Jordan"
  before the Creative Print competition.
END:VEVENT
BEGIN:VTIMEZONE
TZID:America/New_York
X-LIC-LOCATION:America/New_York
BEGIN:STANDARD
DTSTART:20231105T010000
TZOFFSETFROM:-0400
TZOFFSETTO:-0500
TZNAME:EST
END:STANDARD
END:VTIMEZONE
END:VCALENDAR