BEGIN:VCALENDAR
VERSION:2.0
PRODID:-//wp-events-plugin.com//7.2.3.1//EN
TZID:America/New_York
X-WR-TIMEZONE:America/New_York
BEGIN:VEVENT
UID:161@clevelandphoto.org
DTSTART;TZID=America/New_York:20231027T193000
DTEND;TZID=America/New_York:20231027T210000
DTSTAMP:20230929T122844Z
URL:https://www.clevelandphoto.org/events/photographing-the-april-8-2024-s
 olar-eclipse-in-person-event/
SUMMARY:Photographing the April 8\, 2024 Solar Eclipse - LIVE LECTURE
DESCRIPTION:\n\n\n\n\n\n\n\n\n\n\n\n\n\n\n Our own Ken Hubal   will be 
 discussing the April 8\, 2024 solar eclipse and how to photograph it. Top
 ics will include safe solar filters\, aperture &amp\; ISO settings\, lense
 s and camera settings needed to achieve proper exposures of this solar ecl
 ipse.\nA question and answer period will follow the presentation which wil
 l include Ken &amp\; Barb's photos from the 2017 partial eclipse as see fr
 om the Cleveland area.\n\n\n\n\n\n\nKen has been doing photography since 1
 975 and the days of film. I am a retired physicist and optical designer wi
 th  extensive experience in camera and telescope design and building. A l
 ifelong amateur astronomer\, I've photographed several lunar eclipses and 
 most recently\, the 2017 solar eclipse. I enjoy multiple genres of photogr
 aphy including nature\, wildlife and portraiture. My wife Barbara and I ha
 ve been members of CPS since March of 2023. We are from Medina\, Ohio wher
 e we've resided for 11 years.\n\n\n\nKen  will be discussing the April 8\
 , 2024 solar eclipse and how to photograph it. Topics will include safe s
 olar filters\, aperture &amp\; ISO settings\, lenses and camera settings n
 eeded to achieve proper exposures of this solar eclipse.\nA question and a
 nswer period will follow the presentation which will include Ken &amp\; Ba
 rb's photos from the 2017 partial eclipse as see from the Cleveland area.\
 n\n\n\n]\n\n\n\n\n\n\n\n\n\n\n\n\n\n\n\n\n\n\n\n\n\n\n\n\n\n\n\n\n\n\n
END:VEVENT
BEGIN:VTIMEZONE
TZID:America/New_York
X-LIC-LOCATION:America/New_York
BEGIN:DAYLIGHT
DTSTART:20230312T030000
TZOFFSETFROM:-0500
TZOFFSETTO:-0400
TZNAME:EDT
END:DAYLIGHT
END:VTIMEZONE
END:VCALENDAR