BEGIN:VCALENDAR
VERSION:2.0
PRODID:-//wp-events-plugin.com//7.2.3.1//EN
TZID:America/New_York
X-WR-TIMEZONE:America/New_York
BEGIN:VEVENT
UID:347@clevelandphoto.org
DTSTART;TZID=America/New_York:20240607T193000
DTEND;TZID=America/New_York:20240607T220000
DTSTAMP:20240512T133031Z
URL:https://www.clevelandphoto.org/events/photographing-india-by-richard-a
 der-live-lecture/
SUMMARY:Photographing India by Richard Ader - Live Lecture
DESCRIPTION:Tonight we will take a photographic journey through Rajasthan\,
  India. The talk will include not only the images but also concentrate on 
 the photographic techniques learned there.\n\n
END:VEVENT
BEGIN:VTIMEZONE
TZID:America/New_York
X-LIC-LOCATION:America/New_York
BEGIN:DAYLIGHT
DTSTART:20240310T030000
TZOFFSETFROM:-0500
TZOFFSETTO:-0400
TZNAME:EDT
END:DAYLIGHT
END:VTIMEZONE
END:VCALENDAR