BEGIN:VCALENDAR
VERSION:2.0
PRODID:-//wp-events-plugin.com//7.2.3.1//EN
TZID:America/New_York
X-WR-TIMEZONE:America/New_York
BEGIN:VEVENT
UID:713@clevelandphoto.org
DTSTART;TZID=America/New_York:20250829T193000
DTEND;TZID=America/New_York:20250829T210000
DTSTAMP:20250630T232352Z
URL:https://www.clevelandphoto.org/events/photographer-ai-a-partnership-in
 -visual-storytelling-by-john-paganini-photographer-in-person-club-house-wi
 ll-be-open/
SUMMARY:Photographer + AI: A Partnership in Visual Storytelling by John Pag
 anini Photographer - In person - Club house will be open
DESCRIPTION:\n\n&nbsp\;\n\n- Presentation Title: Photographer + AI: A Partn
 ership in Visual Storytelling\n\n- Presentation Description\nFellow CPS me
 mber John Paganini will present an interactive session exploring the inter
 section of photography and artificial intelligence. He will discuss fresh 
 insights into the latest AI tools\, including Adobe\, ChatGPT and Sora-sty
 le video generation. The presentation will also feature some practical Pho
 toshop/Lightroom usage of AI\, prompt engineering tips and some novel usag
 e of AI specific to photography. This event is for photographers looking t
 o elevate their creativity\, streamline their workflow\, and further explo
 re the exciting future of AI-enhanced artistry.\n\n- Bio\nJohn Paganini\, 
 a member of the Cleveland Photographic Society\, has a passion for photogr
 aphy that traces back to his childhood. His journey into the world of phot
 ography began when his sister won a Kodak Instamatic camera in a Soupy Sal
 es contest\, sparking a family-wide fascination with capturing moments. Th
 is fascination was further nurtured by his father\, who regularly shot mov
 ies with a Bell and Howell 8mm camera.\n\nThroughout his 40+ year career i
 n the information technology industry\, one location John worked in was Ro
 chester\, the hometown of Kodak. It was here that he acquired his first di
 gital camera\, the Kodak DC8\, a technology that marked the beginning of t
 he digital camera industry and remains a cherished item in his collection.
  His affinity for pioneering digital technology laid a solid foundation fo
 r his photography skills.\n\nAs technology advanced\, John's equipment evo
 lved alongside it and he embraced Canon cameras\, exploring the vast capab
 ilities of digital photography. Today\, he shoots with a Canon R5. His sub
 jects of photographic interest are as diverse as his background\, ranging 
 from the elegance of classic and modern cars\, the beauty of nature to the
  intricate details of building architecture.\n\nJohn's fascination with te
 chnology extends beyond photography. He is deeply engaged with artificial 
 intelligence\, exploring its applications not only in enhancing photograph
 ic and video techniques but also in streamlining business operations for h
 is software company. This dual interest in AI intersects his passion for p
 hotography with his professional expertise in information technology.\n\nI
 n this pivotal moment in history\, the integration of artificial intellige
 nce in photography and beyond represents unprecedented opportunities and l
 imitless possibilities. The horizon of AI's potential is not just near—i
 t's here – and will continue to be an amazing journey.\n\n- Website\nwww
 .autovisionstudios.com
END:VEVENT
BEGIN:VTIMEZONE
TZID:America/New_York
X-LIC-LOCATION:America/New_York
BEGIN:DAYLIGHT
DTSTART:20250309T030000
TZOFFSETFROM:-0500
TZOFFSETTO:-0400
TZNAME:EDT
END:DAYLIGHT
END:VTIMEZONE
END:VCALENDAR