BEGIN:VCALENDAR
VERSION:2.0
PRODID:-//wp-events-plugin.com//7.2.3.1//EN
TZID:America/New_York
X-WR-TIMEZONE:America/New_York
BEGIN:VEVENT
UID:281@clevelandphoto.org
DTSTART;TZID=America/New_York:20240405T193000
DTEND;TZID=America/New_York:20240405T220000
DTSTAMP:20240119T173833Z
URL:https://www.clevelandphoto.org/events/phone-photography-with-greg-mcmi
 llan-zoom-event-clubhouse-will-be-open/
SUMMARY:INTRODUCTION TO PHONE PHOTOGRAPHY with Greg McMillan - ZOOM EVENT -
  Clubhouse will be Open
DESCRIPTION:Join Greg McMillan\, noted phone photography educator for a tal
 k on phone photography.\nThis - Zoom talk will be about an introduction to
  iPhone photography and how to take a photographic approach to it.\n\n ht
 tps://mcmillan.photos\n\nGreg McMillan is an enthusiastic iPhone photograp
 her\, who enjoys the challenges associated with the iPhone camera\, and th
 e abundance of editing apps available. In 2016\, he fully embraced iPhone 
 photography\, selling his Canon gear. Greg relies on his iPhone 15 Pro Max
 \, macro lenses from Struman Optics\, ShiftCam and Reeflex\, and various a
 pps to transform everyday photos into artistic creations. He co-hosted the
  Tiny Shutter podcast\, discussing iPhone photography until its conclusion
  in 2020 and now hosts The iPhoneography Podcast with Tiny Shutter alumni\
 , Dave Podnar. Greg published an eBook in 2018\, chronicling his transitio
 n from traditional to iPhone photography\, featuring many images from his 
 various iPhones. Greg's recent project involves self-publishing a book on 
 macro photography with the iPhone\, which will be available in print and d
 igital in the spring of 2024. He participates in a bi-weekly livestream on
  YouTube with Australian YouTube creator and mobile photographer\, Shayne 
 Mostyn. Greg actively engages in online communities on Facebook\, Instagra
 m\, and Glass.\n&nbsp\;\n\n&nbsp\;\n\n&nbsp\;\n\n
END:VEVENT
BEGIN:VTIMEZONE
TZID:America/New_York
X-LIC-LOCATION:America/New_York
BEGIN:DAYLIGHT
DTSTART:20240310T030000
TZOFFSETFROM:-0500
TZOFFSETTO:-0400
TZNAME:EDT
END:DAYLIGHT
END:VTIMEZONE
END:VCALENDAR