BEGIN:VCALENDAR
VERSION:2.0
PRODID:-//wp-events-plugin.com//7.2.3.1//EN
TZID:America/New_York
X-WR-TIMEZONE:America/New_York
BEGIN:VEVENT
UID:280@clevelandphoto.org
DTSTART;TZID=America/New_York:20240503T193000
DTEND;TZID=America/New_York:20240503T220000
DTSTAMP:20231219T153908Z
URL:https://www.clevelandphoto.org/events/phone-photography-competition-pr
 ojection/
SUMMARY:Phone Photography Competition - Projection
DESCRIPTION:Enter our first Phone Photography competition for CPS. All imag
 es must be made with a smartphone. Members can enter up to three (3) image
 s through Shutter Score. This will be an open category competition\, the s
 ame as Pictorial. More information to follow.
END:VEVENT
BEGIN:VTIMEZONE
TZID:America/New_York
X-LIC-LOCATION:America/New_York
BEGIN:DAYLIGHT
DTSTART:20240310T030000
TZOFFSETFROM:-0500
TZOFFSETTO:-0400
TZNAME:EDT
END:DAYLIGHT
END:VTIMEZONE
END:VCALENDAR