BEGIN:VCALENDAR
VERSION:2.0
PRODID:-//wp-events-plugin.com//7.2.3.1//EN
TZID:America/New_York
X-WR-TIMEZONE:America/New_York
BEGIN:VEVENT
UID:7@clevelandphoto.org
DTSTART:20230130T000000Z
DTEND:20230130T034500Z
DTSTAMP:20230111T105111Z
URL:https://www.clevelandphoto.org/events/people-competition-results-1-6-2
 3-available/
SUMMARY:People Competition Results 1-6-23 Available
DESCRIPTION:The images for the People and Pictorial Print Competition 1-6-2
 3 are now available on the Gallery page of the website. For cumulative com
 petition standings and places for the night click here
END:VEVENT
END:VCALENDAR