BEGIN:VCALENDAR
VERSION:2.0
PRODID:-//wp-events-plugin.com//7.2.3.1//EN
TZID:America/New_York
X-WR-TIMEZONE:America/New_York
BEGIN:VEVENT
UID:2@clevelandphoto.org
DTSTART:20230105T000000Z
DTEND:20230105T180000Z
DTSTAMP:20221226T180702Z
URL:https://www.clevelandphoto.org/events/people-competition-images-now-av
 ailable-2/
SUMMARY:People Competition Images Now Available
DESCRIPTION:The winners of the October 14\, 2022 People Competition are now
  available. To view the People Competition winners click here.
ATTACH;FMTTYPE=image/jpeg:https://www.clevelandphoto.org/wp-content/upload
 s/2022/12/10-Copie.jpg
END:VEVENT
END:VCALENDAR