BEGIN:VCALENDAR
VERSION:2.0
PRODID:-//wp-events-plugin.com//7.2.3.1//EN
TZID:America/New_York
X-WR-TIMEZONE:America/New_York
BEGIN:VEVENT
UID:770@clevelandphoto.org
DTSTART;TZID=America/New_York:20260508T193000
DTEND;TZID=America/New_York:20260508T210000
DTSTAMP:20260420T161721Z
URL:https://www.clevelandphoto.org/events/paula-mendoza-project-manager-le
 nsbaby/
SUMMARY:Cathy Kuhlman Lensbaby Photographer "Embrace the Blur: A Creative P
 hotography Presentation" This will be Zoom. Club will be open.
DESCRIPTION:[caption id="attachment_16603" align="alignnone" width="367"] C
 ATHYKUHLMANPHOTOGRAPHY@GMAIL.COM[/caption]\nEmbrace the Blur: A Creative P
 hotography Presentation\n\nJoin Lensbaby Trailblazer Cathy Kuhlman as she 
 shows you\na glimpse into the world of Lensbaby products and shares\nwith 
 you some of the ways to take your photography “from\nthe ordinary to the
  extraordinary.” She’ll give you examples\nof how to use these selecti
 ve focus products to better tell\nyour stories\, to create images that are
  uniquely yours\, and\nhelp you to spend less time editing in front of you
 r\ncomputer and more time in the field\, at the studio\, or at\nyour kitch
 en table creating! Lensbaby isn’t just for flowers.\nIt spans the genres
  of photography. Don’t just ask “why” or\n“how.” Instead\, ask 
 “why not?” Then encourage yourself to\nget started by thinking “let
 ’s just see what happens!” The\npossibilities are endless! As a Lensba
 by Trailblazer she’ll\nshare what she has learned\, how she has been ins
 pired\,\nand how you can use these products to bring emotion into\nyour ar
 t and to create work that is as individual as you\nare!\n&nbsp\;\nBio\nCat
 hy Kuhlman is a “self taught” photographer who began\nher serious stud
 y of photography later in life. She honed\nher skills through many online 
 and in-person courses\, as\nwell as through many years of practice! She is
  a Click Pro\nElite photographer and a Lensbaby Trailblazer. Cathy\nenjoys
  sharing her love of blur in her work through in-person classes and online
  presentations!\nCathy also writesinformational blogs for Lensbaby.\nWhen 
 Cathy doesn’t have a camera in her hands she enjoys\ntraveling with her 
 husband\, spending time with her children\nand her newest loves…her gran
 dchildren\, as well as taking\nlong walks\, gardening and reading. Before 
 retiring\, Cathy\nworked in Special Education in her local school system.\
 nYou can reach out to Cathy via her website or on social\nmedia:\nwww.cath
 ykuhlmanphotography.com\nwww.cathylicephotography (Lensbaby Portfolio)\n\n
 IG: CathyAlicePhotography\n\nFB: Cathy Alice\n&nbsp\;\n**Those attending i
 n the clubroom or on the Zoom call will receive a discount code.**
END:VEVENT
BEGIN:VTIMEZONE
TZID:America/New_York
X-LIC-LOCATION:America/New_York
BEGIN:DAYLIGHT
DTSTART:20260308T030000
TZOFFSETFROM:-0500
TZOFFSETTO:-0400
TZNAME:EDT
END:DAYLIGHT
END:VTIMEZONE
END:VCALENDAR