BEGIN:VCALENDAR
VERSION:2.0
PRODID:-//wp-events-plugin.com//7.2.3.1//EN
TZID:America/New_York
X-WR-TIMEZONE:America/New_York
BEGIN:VEVENT
UID:620@clevelandphoto.org
DTSTART;TZID=America/New_York:20251219T193000
DTEND;TZID=America/New_York:20251219T210000
DTSTAMP:20251117T014402Z
URL:https://www.clevelandphoto.org/events/part-ii-polina-plotnikova-photog
 rapher-this-will-be-a-zoom-presentation-club-will-be-open/
SUMMARY:Polina Plotnikova Photographer - "Starting from a blank canvas – 
 Still Life”.  -  This will be a Zoom Presentation - Club will be open
DESCRIPTION:\nBio\nThey say that a photographer is either a picture taker o
 r a picture maker\; Polina is firmly in the picture makers' club. While fu
 lly appreciating the "what you see is what you get" approach\, she is much
  more interested in chasing an ever-elusive image that appears in her mind
 's eye\, the kind of an image that conveys her feelings and emotions rathe
 r than remains a mere statement of fact.\n\nPrior to becoming a full-time 
 photographer Polina studied Art History at university\, and then worked in
  several museums\, galleries and picture libraries. Her favourite studio b
 ased photographic subjects are flower portraiture and still life. When it 
 comes to outdoor photography\, she like focusing on flowers using special 
 effect or vintage lenses. In addition to her own hands-on photographic wor
 kshops\, she teaches photography and gives talks to various photo clubs an
 d associations. She also hugely enjoys creating impressionistic landscape 
 images and photographing collectable artisan ball-jointed dolls – relati
 vely unknown but fascinating photography subject.\n\nPolina is an internat
 ional awards winner\, a member of the judging panel for the Royal Horticul
 tural Society’s Photographic Portfolio competition\, as well as member o
 f the Royal Photographic Society’s Distinctions panel in the Visual Art 
 category.\n\n\nTitle: "Starting from a blank canvas – Still Life”\nDes
 cription: This talk is about composition\, light\, textures\, and colours 
 that I use when creating my still life setups. My approach - for better or
  worse - is to start by creating an image in my mind's eye and proceed to 
 taking photographs only after all details have been thought through. There
  will be a few schematic illustrations to show my studio hardware and to d
 emonstrate various stages of putting together a still life setup.\n\n\nWeb
 site:\nwww.polinaplotnikova.com\n\n\nAll talks are held via zoom\n\nNo rec
 ordings\n&nbsp\;\n\n&nbsp\;
END:VEVENT
BEGIN:VTIMEZONE
TZID:America/New_York
X-LIC-LOCATION:America/New_York
BEGIN:STANDARD
DTSTART:20251102T010000
TZOFFSETFROM:-0400
TZOFFSETTO:-0500
TZNAME:EST
END:STANDARD
END:VTIMEZONE
END:VCALENDAR