BEGIN:VCALENDAR
VERSION:2.0
PRODID:-//wp-events-plugin.com//7.2.3.1//EN
TZID:America/New_York
X-WR-TIMEZONE:America/New_York
BEGIN:VEVENT
UID:619@clevelandphoto.org
DTSTART;TZID=America/New_York:20251212T193000
DTEND;TZID=America/New_York:20251212T210000
DTSTAMP:20251117T014708Z
URL:https://www.clevelandphoto.org/events/part-1-polina-plotnikova-photogr
 apher-this-will-be-a-zoom-presentation-club-will-be-open/
SUMMARY:Polina Plotnikova Photographer - "Starting from a blank canvas- Flo
 wer Portraits".  This will be a Zoom Presentation - Club will be open
DESCRIPTION:\nBio\nThey say that a photographer is either a picture taker o
 r a picture maker\; Polina is firmly in the picture makers' club. While fu
 lly appreciating the "what you see is what you get" approach\, she is much
  more interested in chasing an ever-elusive image that appears in her mind
 's eye\, the kind of an image that conveys her feelings and emotions rathe
 r than remains a mere statement of fact.\nPrior to becoming a full-time ph
 otographer Polina studied Art History at university\, and then worked in s
 everal museums\, galleries and picture libraries. Her favourite studio bas
 ed photographic subjects are flower portraiture and still life. When it co
 mes to outdoor photography\, she like focusing on flowers using special ef
 fect or vintage lenses. In addition to her own hands-on photographic works
 hops\, she teaches photography and gives talks to various photo clubs and 
 associations. She also hugely enjoys creating impressionistic landscape im
 ages and photographing collectable artisan ball-jointed dolls – relative
 ly unknown but fascinating photography subject.\nPolina is an internationa
 l awards winner\, a member of the judging panel for the Royal Horticultura
 l Society’s Photographic Portfolio competition\, as well as member of th
 e Royal Photographic Society’s Distinctions panel in the Visual Art cate
 gory.\n&nbsp\;\nTitle: "Starting from a blank canvas - Flower portraits"\n
 Description: This talk is about my approach to flower photography which is
  somewhat similar to portrait photography: for every flower and plant that
  I photograph\, I always try to find a unique look\, study its mood and ch
 aracter\, unlock its hidden beauty. In doing so\, I neither aim at creatin
 g an accurate natural/botanical image\, nor try to picture a flower in its
  natural habitat. What matters is my creative interpretation of a flower i
 mage.\npolinaplotnikova.com\n@photoartitude\n\nWebsite:\nwww.polinaplotnik
 ova.com\n\n\nAll talks are held via zoom\n\nNo recordings\n&nbsp\;
END:VEVENT
BEGIN:VTIMEZONE
TZID:America/New_York
X-LIC-LOCATION:America/New_York
BEGIN:STANDARD
DTSTART:20251102T010000
TZOFFSETFROM:-0400
TZOFFSETTO:-0500
TZNAME:EST
END:STANDARD
END:VTIMEZONE
END:VCALENDAR