BEGIN:VCALENDAR
VERSION:2.0
PRODID:-//wp-events-plugin.com//7.2.3.1//EN
TZID:America/New_York
X-WR-TIMEZONE:America/New_York
BEGIN:VEVENT
UID:662@clevelandphoto.org
DTSTART;TZID=America/New_York:20250607T110000
DTEND;TZID=America/New_York:20250607T123000
DTSTAMP:20250605T030805Z
URL:https://www.clevelandphoto.org/events/on-saturday-june-7th-an-event-wi
 ll-be-held-at-pixel-connection-the-time-will-be-announced-soon-reservation
 s-are-required-and-more-information-will-be-provided-soon-mastering-the-ma
 gic-of-macro/
SUMMARY:Part II.     Mastering the Magic of Macro\, The Ultimate Guide to M
 acro Photography – This is optional\, but more hands-on for those intere
 sted in a deeper experience. This event will be held at Pixel Connection. 
  The time will be announced soon. Reservations are required\, and more inf
 ormation will be provided soon.
DESCRIPTION:Mastering the Magic of Macro\, The Ultimate Guide to Macro Phot
 ography - This is optional\, but more hands-on for those interested in a d
 eeper experience. This event will be held at Pixel Connection.\n\nIt’s t
 ime to put your new macro photography skills into action! This hands-on wo
 rkshop at Pixel Connection’s Avon store builds on the techniques from Fr
 iday night’s presentation. It’s a fun and engaging opportunity to prac
 tice with real-time guidance while creating stunning images for your macro
  photography portfolio.\n\nPixel Connection team and Sigma Tech Rep Steph 
 will be on hand throughout the workshop to offer tips and troubleshooting 
 to help you get the most out of your shots. During the shooting portion\, 
 you’ll have access to multiple fully-styled stations\, each designed to 
 highlight color and texture. These stations will feature a mix of natural 
 and artificial lighting\, providing plenty of opportunities to refine your
  skills.\n\nWhether you’re focused on perfecting focus\, fine-tuning exp
 osure\, exploring advanced techniques like focus stacking\, or simply grow
 ing your portfolio\, this workshop has something for everyone!\n\nAfter th
 e shooting portion\, we’ll wrap up with a brief post-processing tutorial
  in Lightroom and Photoshop\, including a step-by-step guide to focus stac
 king.\n\nWhat to Bring:\n\n· Camera\, memory cards\, and multiple fully c
 harged batteries\n· Tripod (optional but welcomed)\n· Sigma macro lenses
  will be available to borrow if needed\n\nDon’t miss this chance to elev
 ate your macro photography skills in a fun\, interactive environment. Rese
 rve your spot today!
END:VEVENT
BEGIN:VTIMEZONE
TZID:America/New_York
X-LIC-LOCATION:America/New_York
BEGIN:DAYLIGHT
DTSTART:20250309T030000
TZOFFSETFROM:-0500
TZOFFSETTO:-0400
TZNAME:EDT
END:DAYLIGHT
END:VTIMEZONE
END:VCALENDAR