BEGIN:VCALENDAR
VERSION:2.0
PRODID:-//wp-events-plugin.com//7.2.3.1//EN
TZID:America/New_York
X-WR-TIMEZONE:America/New_York
BEGIN:VEVENT
UID:314@clevelandphoto.org
DTSTART;TZID=America/New_York:20240907T183000
DTEND;TZID=America/New_York:20240907T210000
DTSTAMP:20240609T180022Z
URL:https://www.clevelandphoto.org/events/north-coast-harbor-field-trip/
SUMMARY:Field Trip - North Coast Harbor
DESCRIPTION:Itinerary: Meet at 6:30pm at the Long Live Rock sign in front 
 of the Rock and Roll Hall of Fame. Photo opportunities are the Great Lakes
  Science Center\, the William Mather Museum\, the Rock and Roll Hall of Fa
 me\, Voinovich Park\, and the Cleveland Sign. Sunset is approximately 8:04
 pm and the Rock Hall will be open until 9:00pm. Sunset opportunities may b
 e available with the Rock Hall in the background.  Parking is available o
 n the Pier\, a parking garage a block away or at meters on the street.\n\n
 &nbsp\;\n\nWho: There is no cost for this field trip.  Participants are r
 esponsible for parking fees.  The field trip is open to EVERYONE.\n\n&nbs
 p\;\n\nWhere: Meeting point: Rock and Roll Hall of Fame.\n\nFor a map: cli
 ck here\n\n&nbsp\;\n\nEquipment: Camera. Various interchangeable lens incl
 uding wide-angle\, telephoto\, or multi-purpose zoom lens\, tripod (recomm
 ended). Flashlight for light painting\, extra batteries\, and memory cards
 \, etc. and dress appropriately to the weather forecast.\n\n&nbsp\;\n\nFie
 ld Trip Sponsor: Thank you\, Jerry Phenney for coordinating!\n\n&nbsp\;\n\
 nAdditional Questions: Email: Field Trips\n\n&nbsp\;\n\nPLEASE NOTE: As wi
 th all field trips\, CPS cannot be held responsible for any accidents or i
 njuries - participate at your own risk.\n\n&nbsp\;
END:VEVENT
BEGIN:VTIMEZONE
TZID:America/New_York
X-LIC-LOCATION:America/New_York
BEGIN:DAYLIGHT
DTSTART:20240310T030000
TZOFFSETFROM:-0500
TZOFFSETTO:-0400
TZNAME:EDT
END:DAYLIGHT
END:VTIMEZONE
END:VCALENDAR