BEGIN:VCALENDAR
VERSION:2.0
PRODID:-//wp-events-plugin.com//7.2.3.1//EN
TZID:America/New_York
X-WR-TIMEZONE:America/New_York
BEGIN:VEVENT
UID:872@clevelandphoto.org
DTSTART;TZID=America/New_York:20260101T000000
DTEND;TZID=America/New_York:20260101T000000
DTSTAMP:20251205T095037Z
URL:https://www.clevelandphoto.org/events/no-sig-meeting-this-month/
SUMMARY:No SIG Meeting This Month
DESCRIPTION:
END:VEVENT
BEGIN:VTIMEZONE
TZID:America/New_York
X-LIC-LOCATION:America/New_York
BEGIN:STANDARD
DTSTART:20251102T010000
TZOFFSETFROM:-0400
TZOFFSETTO:-0500
TZNAME:EST
END:STANDARD
END:VTIMEZONE
END:VCALENDAR