BEGIN:VCALENDAR
VERSION:2.0
PRODID:-//wp-events-plugin.com//7.2.3.1//EN
TZID:America/New_York
X-WR-TIMEZONE:America/New_York
BEGIN:VEVENT
UID:6@clevelandphoto.org
DTSTART:20230105T000000Z
DTEND:20230105T180000Z
DTSTAMP:20221226T180638Z
URL:https://www.clevelandphoto.org/events/new-nametags-to-be-offered-by-re
 quest/
SUMMARY:New Nametags to be Offered by Request
DESCRIPTION:We are about to have a new batch of CPS nametags made. Since a 
 majority of members have never used their old nametags\, the new ones will
  be by request only. There will be no cost to the member. The new nametags
  will have the date the member joined on them in place of 5 and 10 year na
 metags. Anyone who wants a new or replacement nametag can sign up at the c
 lubhouse at any CPS event there.
ATTACH;FMTTYPE=image/jpeg:https://www.clevelandphoto.org/wp-content/upload
 s/2022/12/10-Copie.jpg
END:VEVENT
END:VCALENDAR