BEGIN:VCALENDAR
VERSION:2.0
PRODID:-//wp-events-plugin.com//7.2.3.1//EN
TZID:America/New_York
X-WR-TIMEZONE:America/New_York
BEGIN:VEVENT
UID:112@clevelandphoto.org
DTSTART;TZID=America/New_York:20230630T090000
DTEND;TZID=America/New_York:20230630T110000
DTSTAMP:20230629T010722Z
URL:https://www.clevelandphoto.org/events/nelson-kennedy-ledges-state-park
 -field-trip/
SUMMARY:RESCHEDULED - Nelson - Kennedy Ledges State Park Field Trip
DESCRIPTION:PLEASE READ!!\n\n&nbsp\;\n\nTHIS FIELD TRIP IS RESCHEDULED FOR 
 JULY 15th DUE TO WEATHER!  FOR THE SAFETY OF EVERYONE\, WE HAVE MADE THE 
 DECISION TO RESCHEDULE THIS TRIP FOR A LATER DATE!\n\n&nbsp\;\n\nItinerary
 : Landscape\, plants\, and bird photography\n\nWho: This trip is open to E
 VERYONE\, no cost or the need for any advance notice – simply join us if
  you can!\n\nWhen: RESCHEDULED Saturday\, July 15 from 9:00 am to about 11
  am\n\nWhere: Nelson-Kennedy Ledges State Park Their address is: 12440 OH
 -282\, Garrettsville\, OH 44231\n\nFor a map\, click here.\n\nCost: Parki
 ng is free and there is a facility on site.\n\nAdditional Information: Wit
 h its rugged cliffs\, waterfalls\, and natural landscape\, Nelson-Kennedy 
 Ledges State Park provides a thrilling experience for visitors of all ages
 . The park's spectacular rock formations are among the few in northern Ohi
 o still exposed to view. Hikers will enjoy trails that take them to format
 ions like Devil's Icebox\, Indian Pass\, and Old Maid's Kitchen. Visitors 
 are reminded to exercise caution and stay on the trails at all times." (ta
 ken from website). We might not visit all the sites\, it depends on the gr
 oup.\n\nWhat to Bring: Sturdy\, waterproof shoes (in case of soggy trails
 )\, insect repellant\, binoculars\, a tripod if you have one\, a landscape
  lens (24-70mm)\, and your longest lenses for best shooting (but come alon
 g even if you don’t have one)\, and most importantly - an interest in na
 ture.In addition\, if you enjoy macro\, they will be plenty of subjects.\n
 \nField Trip Sponsor: Natalie Souza for coordinating.\n\nAdditional questi
 ons: fieldtrips@clevelandphoto.org\n\n&nbsp\;\n\nIMPORTANT NOTE: As with a
 ll field trips\, CPS cannot be held responsible for any accidents or injur
 ies - participate at your own risk.
LOCATION:https://goo.gl/maps/bBMaFjiF3g3RbGFa8?coh=178573&entry=tt
END:VEVENT
BEGIN:VTIMEZONE
TZID:America/New_York
X-LIC-LOCATION:America/New_York
BEGIN:DAYLIGHT
DTSTART:20230312T030000
TZOFFSETFROM:-0500
TZOFFSETTO:-0400
TZNAME:EDT
END:DAYLIGHT
END:VTIMEZONE
END:VCALENDAR