BEGIN:VCALENDAR
VERSION:2.0
PRODID:-//wp-events-plugin.com//7.2.3.1//EN
TZID:America/New_York
X-WR-TIMEZONE:America/New_York
BEGIN:VEVENT
UID:140@clevelandphoto.org
DTSTART;TZID=America/New_York:20230715T090000
DTEND;TZID=America/New_York:20230715T110000
DTSTAMP:20230629T010340Z
URL:https://www.clevelandphoto.org/events/nelson-kennedy-ledges-state-park
 -field-trip-reschedule/
SUMMARY:Nelson - Kennedy Ledges State Park Field Trip - RESCHEDULE
DESCRIPTION:Itinerary: Landscape\, plants\, and bird photography\n\nWho: Th
 is trip is open to EVERYONE\, no cost or the need for any advance notice 
 – simply join us if you can!\n\nWhen: Saturday\, July 15 from 9:00 am to
  about 11 am\n\nWhere: Nelson-Kennedy Ledges State Park Their address is:
  12440 OH-282\, Garrettsville\, OH 44231\n\nFor a map\, click here.\n\nCo
 st: Parking is free and there is a facility on site.\n\nAdditional Informa
 tion: With its rugged cliffs\, waterfalls\, and natural landscape\, Nelson
 -Kennedy Ledges State Park provides a thrilling experience for visitors of
  all ages. The park's spectacular rock formations are among the few in nor
 thern Ohio still exposed to view. Hikers will enjoy trails that take them 
 to formations like Devil's Icebox\, Indian Pass\, and Old Maid's Kitchen. 
 Visitors are reminded to exercise caution and stay on the trails at all ti
 mes." (taken from website). We might not visit all the sites\, it depends 
 on the group.\n\nWhat to Bring: Sturdy\, waterproof shoes (in case of sog
 gy trails)\, insect repellant\, binoculars\, a tripod if you have one\, a 
 landscape lens (24-70mm)\, and your longest lenses for best shooting (but 
 come along even if you don’t have one)\, and most importantly - an inter
 est in nature.In addition\, if you enjoy macro\, they will be plenty of su
 bjects.\n\nField Trip Sponsor: Natalie Souza for coordinating.\n\nAddition
 al questions: fieldtrips@clevelandphoto.org\n\n&nbsp\;\n\nIMPORTANT NOTE: 
 As with all field trips\, CPS cannot be held responsible for any accidents
  or injuries - participate at your own risk.
LOCATION:https://goo.gl/maps/bBMaFjiF3g3RbGFa8?coh=178573&entry=tt
END:VEVENT
BEGIN:VTIMEZONE
TZID:America/New_York
X-LIC-LOCATION:America/New_York
BEGIN:DAYLIGHT
DTSTART:20230312T030000
TZOFFSETFROM:-0500
TZOFFSETTO:-0400
TZNAME:EDT
END:DAYLIGHT
END:VTIMEZONE
END:VCALENDAR