BEGIN:VCALENDAR
VERSION:2.0
PRODID:-//wp-events-plugin.com//7.2.3.1//EN
TZID:America/New_York
X-WR-TIMEZONE:America/New_York
BEGIN:VEVENT
UID:318@clevelandphoto.org
DTSTART;TZID=America/New_York:20240713T100000
DTEND;TZID=America/New_York:20240713T120000
DTSTAMP:20240125T225038Z
URL:https://www.clevelandphoto.org/events/nelson-kennedy-ledges-state-park
 -field-trip-2/
SUMMARY:Nelson - Kennedy Ledges State Park Field Trip
DESCRIPTION:Itinerary: Plan to meet at the parking lot at 10am.  There are
  several loops that we can go on.  Photography opportunities include land
 scape\, plants\, and birding.\n\nPLEASE NOTE: The difficulty level is betw
 een moderate to slightly difficult depending on your fitness level.  The 
 terrain is uneven with elevations\, and small rock formations to climb ove
 r. \n\nWho: This trip is open to EVERYONE\, no cost or the need for any a
 dvance notice – simply join us if you can!\n\nWhen: Saturday\, July 13 f
 rom 10:00 am to about Noon\n\nWhere: Nelson-Kennedy Ledges State Park The
 ir address is: 12440 OH-282\, Garrettsville\, OH 44231\n\nFor a map\, cli
 ck here.\n\nCost: Parking is free and there is a facility on site.\n\nAddi
 tional Information: With its rugged cliffs\, waterfalls\, and natural land
 scape\, Nelson-Kennedy Ledges State Park provides a thrilling experience f
 or visitors of all ages. The park's spectacular rock formations are among 
 the few in northern Ohio still exposed to view. Hikers will enjoy trails t
 hat take them to formations like Devil's Icebox\, Indian Pass\, and Old Ma
 id's Kitchen. Visitors are reminded to exercise caution and stay on the tr
 ails at all times." (taken from website). We might not visit all the sites
 \, it depends on the group.\n\nWhat to Bring: Sturdy\, waterproof shoes (
 in case of soggy trails)\, insect repellant\, binoculars\, a tripod if you
  have one\, a landscape lens (24-70mm)\, and your longest lenses for best 
 shooting (but come along even if you don’t have one)\, and most importan
 tly - an interest in nature.In addition\, if you enjoy macro\, they will b
 e plenty of subjects.\n\nField Trip Sponsor: Natalie Souza for coordinatin
 g.\n\nAdditional questions: fieldtrips@clevelandphoto.org\n\n&nbsp\;\n\nIM
 PORTANT NOTE: As with all field trips\, CPS cannot be held responsible for
  any accidents or injuries - participate at your own risk.
LOCATION:https://goo.gl/maps/bBMaFjiF3g3RbGFa8?coh=178573&entry=tt
END:VEVENT
BEGIN:VTIMEZONE
TZID:America/New_York
X-LIC-LOCATION:America/New_York
BEGIN:DAYLIGHT
DTSTART:20240310T030000
TZOFFSETFROM:-0500
TZOFFSETTO:-0400
TZNAME:EDT
END:DAYLIGHT
END:VTIMEZONE
END:VCALENDAR