BEGIN:VCALENDAR
VERSION:2.0
PRODID:-//wp-events-plugin.com//7.2.3.1//EN
TZID:America/New_York
X-WR-TIMEZONE:America/New_York
BEGIN:VEVENT
UID:838@clevelandphoto.org
DTSTART;TZID=America/New_York:20261023T193000
DTEND;TZID=America/New_York:20261023T220000
DTSTAMP:20251119T020023Z
URL:https://www.clevelandphoto.org/events/nature-pictorial-competition-pro
 jection-7/
SUMMARY:Nature & Pictorial Competition (Projection)
DESCRIPTION:All CPS members in good standing can and are encouraged to ente
 r Club competitions. For rules\, labels\, tutorials and more\, please visi
 t the Competitions page of the website. All are welcome to view the event 
 live or at a later time on our CPS YouTube channel but only members can su
 bmit images. Even if you do not enter\, please plan to join us to see the 
 beautiful images and hear the judge's comments.\n\nProjection Competitions
 : Images are submitted through ShutterScore and the deadline is usually tw
 elve days before the competition but this will be posted on the calendar p
 age. If you have not used ShutterScore before\, sign in and create a free 
 account and then follow the directions.\n\nPrint Competitions: The deadlin
 e for prints is 7:30PM the night of the competition. Prints can be dropped
  off earlier at the CPS clubhouse\, whenever it is open\, in the front Gat
 hering Room in the box labeled for print competitions.
END:VEVENT
BEGIN:VTIMEZONE
TZID:America/New_York
X-LIC-LOCATION:America/New_York
BEGIN:DAYLIGHT
DTSTART:20260308T030000
TZOFFSETFROM:-0500
TZOFFSETTO:-0400
TZNAME:EDT
END:DAYLIGHT
END:VTIMEZONE
END:VCALENDAR