BEGIN:VCALENDAR
VERSION:2.0
PRODID:-//wp-events-plugin.com//7.2.3.1//EN
TZID:America/New_York
X-WR-TIMEZONE:America/New_York
BEGIN:VEVENT
UID:295@clevelandphoto.org
DTSTART;TZID=America/New_York:20240927T193000
DTEND;TZID=America/New_York:20240927T220000
DTSTAMP:20240612T013427Z
URL:https://www.clevelandphoto.org/events/nature-pictorial-competition-pri
 nt-3/
SUMMARY:Nature & Pictorial Competition (Print) 7:30 Pre-Print Presentation 
 by Nancy Balluck
DESCRIPTION:All CPS members in good standing can and are encouraged to ente
 r Club competitions. For rules\, labels\, tutorials and more\, please visi
 t the Competitions page of the website. All are welcome to view the event 
 live or at a later time on our CPS YouTube channel but only members can su
 bmit images. Even if you do not enter\, please plan to join us to see the 
 beautiful images and hear the judge's comments.\n\nProjection Competitions
 : Images are submitted through ShutterScore and the deadline is usually ni
 ne days before the competition but this will be posted on the calendar pag
 e. If you have not used ShutterScore before\, sign in and create a free ac
 count and then follow the directions.\n\nPrint Competitions: The deadline 
 for prints is 7:30PM the night of the competition. Prints can be dropped o
 ff earlier at the CPS clubhouse\, whenever it is open\, in the front Gathe
 ring Room in the box labeled for print competitions.
END:VEVENT
BEGIN:VTIMEZONE
TZID:America/New_York
X-LIC-LOCATION:America/New_York
BEGIN:DAYLIGHT
DTSTART:20240310T030000
TZOFFSETFROM:-0500
TZOFFSETTO:-0400
TZNAME:EDT
END:DAYLIGHT
END:VTIMEZONE
END:VCALENDAR