BEGIN:VCALENDAR
VERSION:2.0
PRODID:-//wp-events-plugin.com//7.2.3.1//EN
TZID:America/New_York
X-WR-TIMEZONE:America/New_York
BEGIN:VEVENT
UID:271@clevelandphoto.org
DTSTART;TZID=America/New_York:20231103T193000
DTEND;TZID=America/New_York:20231103T193000
DTSTAMP:20231005T163953Z
URL:https://www.clevelandphoto.org/events/monitor-calibration-how-and-why-
 by-richard-ader-live-lecture/
SUMMARY:'Monitor Calibration - How and Why' by Richard Ader - LIVE LECTURE
DESCRIPTION:Prior to the Black and White print competition\, while the judg
 es are judging\, Richard will talk on why you should calibrate your monito
 r and how to do it. This talk was given about a year ago and has been upda
 ted.
END:VEVENT
BEGIN:VTIMEZONE
TZID:America/New_York
X-LIC-LOCATION:America/New_York
BEGIN:DAYLIGHT
DTSTART:20230312T030000
TZOFFSETFROM:-0500
TZOFFSETTO:-0400
TZNAME:EDT
END:DAYLIGHT
END:VTIMEZONE
END:VCALENDAR