BEGIN:VCALENDAR
VERSION:2.0
PRODID:-//wp-events-plugin.com//7.2.3.1//EN
TZID:America/New_York
X-WR-TIMEZONE:America/New_York
BEGIN:VEVENT
UID:288@clevelandphoto.org
DTSTART;TZID=America/New_York:20240402T193000
DTEND;TZID=America/New_York:20240402T220000
DTSTAMP:20240315T133446Z
URL:https://www.clevelandphoto.org/events/mentor-mentee-presentation-meeti
 ng/
SUMMARY:Mentor / Mentee Presentation Meeting
DESCRIPTION:Join us at 7:30pm to meet your next mentor! Our club members vo
 lunteer to take you under their wing for 10-12 weeks\, offering their tale
 nt\, expertise and knowledge about their genre of photography. After heari
 ng each mentor\, and seeing their work\, you will be able to request the m
 entor of your choice. You must be a member to participate in this program.
END:VEVENT
BEGIN:VTIMEZONE
TZID:America/New_York
X-LIC-LOCATION:America/New_York
BEGIN:DAYLIGHT
DTSTART:20240310T030000
TZOFFSETFROM:-0500
TZOFFSETTO:-0400
TZNAME:EDT
END:DAYLIGHT
END:VTIMEZONE
END:VCALENDAR